BEGIN:VCALENDAR
VERSION:2.0
PRODID:-//hacksw/handcal//NONSGML v1.0//EN
CALSCALE:GREGORIAN
BEGIN:VEVENT
LOCATION:Tarragona
DESCRIPTION:
DTSTART:20220608T100000Z
DTEND:20220608T100000Z
SUMMARY:Jornada informativa a la Demarcació de Tarragona dels fons next generation per a rehabilitació residencial
URL;VALUE=URI:https://arquitectes.cat/ca/content/jornada-informativa-la-demarcaci%C3%B3-de-tarragona-dels-fons-next-generation-rehabilitaci%C3%B3
DTSTAMP:20260420T031435Z
UID:69e57dfb64685
END:VEVENT
END:VCALENDAR