BEGIN:VCALENDAR
VERSION:2.0
PRODID:-//hacksw/handcal//NONSGML v1.0//EN
CALSCALE:GREGORIAN
BEGIN:VEVENT
LOCATION:Girona
DESCRIPTION:
DTSTART:20220613T170000Z
DTEND:20220613T170000Z
SUMMARY:Les Ciutats que volem – Girona. Conferència de José Morales
URL;VALUE=URI:https://arquitectes.cat/ca/content/les-ciutats-que-volem-%E2%80%93-girona-confer%C3%A8ncia-de-jos%C3%A9-morales
DTSTAMP:20260422T120517Z
UID:69e89d5d704a6
END:VEVENT
END:VCALENDAR