BEGIN:VCALENDAR
VERSION:2.0
PRODID:-//hacksw/handcal//NONSGML v1.0//EN
CALSCALE:GREGORIAN
BEGIN:VEVENT
LOCATION:Barcelona
DESCRIPTION:
DTSTART:20220530T163000Z
DTEND:20220530T163000Z
SUMMARY:Andrei Kureichik. Veus per la llibertat
URL;VALUE=URI:https://arquitectes.cat/ca/content/andrei-kureichik-veus-la-llibertat
DTSTAMP:20260422T190426Z
UID:69e8ff9a0f285
END:VEVENT
END:VCALENDAR