BEGIN:VCALENDAR
VERSION:2.0
PRODID:-//hacksw/handcal//NONSGML v1.0//EN
CALSCALE:GREGORIAN
BEGIN:VEVENT
LOCATION:Barcelona
DESCRIPTION:
DTSTART:20220522T100000Z
DTEND:20220522T100000Z
SUMMARY:Un món d'art brut. Oriol Malet i Jordi Canyissà
URL;VALUE=URI:https://arquitectes.cat/ca/content/un-m%C3%B3n-dart-brut-oriol-malet-i-jordi-canyiss%C3%A0
DTSTAMP:20260425T161720Z
UID:69ecccf00698b
END:VEVENT
END:VCALENDAR