BEGIN:VCALENDAR
VERSION:2.0
PRODID:-//hacksw/handcal//NONSGML v1.0//EN
CALSCALE:GREGORIAN
BEGIN:VEVENT
LOCATION:En línia
DESCRIPTION:
DTSTART:20220523T150000Z
DTEND:20220523T150000Z
SUMMARY:Sessió Sert: Impulsar I+D+I. Un diàleg obligat entre l’arquitectura i la indústria
URL;VALUE=URI:https://arquitectes.cat/ca/content/sessi%C3%B3-sert-impulsar-idi-un-di%C3%A0leg-obligat-entre-l%E2%80%99arquitectura-i-la-ind%C3%BAstria
DTSTAMP:20260424T225015Z
UID:69ebd787d58a0
END:VEVENT
END:VCALENDAR