BEGIN:VCALENDAR
VERSION:2.0
PRODID:-//hacksw/handcal//NONSGML v1.0//EN
CALSCALE:GREGORIAN
BEGIN:VEVENT
LOCATION:En línia
DESCRIPTION:
DTSTART:20220516T150000Z
DTEND:20220516T150000Z
SUMMARY:Sessió Sert: La neurociència aplicada a l’arquitectura
URL;VALUE=URI:https://arquitectes.cat/ca/content/sessi%C3%B3-sert-la-neuroci%C3%A8ncia-aplicada-l%E2%80%99arquitectura
DTSTAMP:20260424T224955Z
UID:69ebd773f2d25
END:VEVENT
END:VCALENDAR