BEGIN:VCALENDAR
VERSION:2.0
PRODID:-//hacksw/handcal//NONSGML v1.0//EN
CALSCALE:GREGORIAN
BEGIN:VEVENT
LOCATION:Barcelona
DESCRIPTION:
DTSTART:20220528T160000Z
DTEND:20220528T160000Z
SUMMARY:Música sense Barreres. Masterclass - Concert
URL;VALUE=URI:https://arquitectes.cat/ca/content/m%C3%BAsica-sense-barreres-masterclass-concert
DTSTAMP:20260419T200650Z
UID:69e519ba45dab
END:VEVENT
END:VCALENDAR