BEGIN:VCALENDAR
VERSION:2.0
PRODID:-//hacksw/handcal//NONSGML v1.0//EN
CALSCALE:GREGORIAN
BEGIN:VEVENT
LOCATION:Barcelona
DESCRIPTION:
DTSTART:20220514T100000Z
DTEND:20220514T100000Z
SUMMARY:Localitzacions amb Pier Paolo Pasolini. Una mirada entre Cinema\, Paisatge Arquitectònic i Figures Humanes
URL;VALUE=URI:https://arquitectes.cat/ca/content/localitzacions-amb-pier-paolo-pasolini-una-mirada-entre-cinema-paisatge-arquitect%C3%B2nic-i-0
DTSTAMP:20260419T233525Z
UID:69e54a9d2f507
END:VEVENT
END:VCALENDAR