BEGIN:VCALENDAR
VERSION:2.0
PRODID:-//hacksw/handcal//NONSGML v1.0//EN
CALSCALE:GREGORIAN
BEGIN:VEVENT
LOCATION:
DESCRIPTION:
DTSTART:20220505T060000Z
DTEND:20220515T200000Z
SUMMARY:Sorteig - Llibreries d’Arquitectura
URL;VALUE=URI:https://arquitectes.cat/ca/content/sorteig-llibreries-d%E2%80%99arquitectura
DTSTAMP:20260419T183143Z
UID:69e5036f42630
END:VEVENT
END:VCALENDAR