BEGIN:VCALENDAR
VERSION:2.0
PRODID:-//hacksw/handcal//NONSGML v1.0//EN
CALSCALE:GREGORIAN
BEGIN:VEVENT
LOCATION:Barcelona
DESCRIPTION:
DTSTART:20220501T070000Z
DTEND:20220512T214500Z
SUMMARY:Exposició EUmies Awards 2022
URL;VALUE=URI:https://arquitectes.cat/ca/content/exposici%C3%B3-eumies-awards-2022
DTSTAMP:20260419T145216Z
UID:69e4d0009790c
END:VEVENT
END:VCALENDAR