BEGIN:VCALENDAR
VERSION:2.0
PRODID:-//hacksw/handcal//NONSGML v1.0//EN
CALSCALE:GREGORIAN
BEGIN:VEVENT
LOCATION:Barcelona
DESCRIPTION:
DTSTART:20220505T050000Z
DTEND:20220515T100000Z
SUMMARY:Model. Festival d’Arquitectures
URL;VALUE=URI:https://arquitectes.cat/ca/content/model-festival-d%E2%80%99arquitectures
DTSTAMP:20260419T151605Z
UID:69e4d595e1c80
END:VEVENT
END:VCALENDAR