BEGIN:VCALENDAR
VERSION:2.0
PRODID:-//hacksw/handcal//NONSGML v1.0//EN
CALSCALE:GREGORIAN
BEGIN:VEVENT
LOCATION:Barcelona
DESCRIPTION:
DTSTART:20220512T080000Z
DTEND:20220512T180000Z
SUMMARY:Fair Materials Matter
URL;VALUE=URI:https://arquitectes.cat/ca/node/37227
DTSTAMP:20260419T200830Z
UID:69e51a1eae4b8
END:VEVENT
END:VCALENDAR