BEGIN:VCALENDAR
VERSION:2.0
PRODID:-//hacksw/handcal//NONSGML v1.0//EN
CALSCALE:GREGORIAN
BEGIN:VEVENT
LOCATION:Barcelona
DESCRIPTION:
DTSTART:20220505T160000Z
DTEND:20220505T160000Z
SUMMARY:Lanzamiento de Radiomedia Arquitectura
URL;VALUE=URI:https://arquitectes.cat/ca/node/37220
DTSTAMP:20260419T235708Z
UID:69e54fb48e8cd
END:VEVENT
END:VCALENDAR