BEGIN:VCALENDAR
VERSION:2.0
PRODID:-//hacksw/handcal//NONSGML v1.0//EN
CALSCALE:GREGORIAN
BEGIN:VEVENT
LOCATION:Barcelona
DESCRIPTION:
DTSTART:20220408T090000Z
DTEND:20220911T130000Z
SUMMARY:Exposició: "Teresa Lanceta. Teixir com a codi obert"
URL;VALUE=URI:https://arquitectes.cat/ca/content/exposici%C3%B3-teresa-lanceta-teixir-com-codi-obert
DTSTAMP:20260419T171434Z
UID:69e4f15af17aa
END:VEVENT
END:VCALENDAR