BEGIN:VCALENDAR
VERSION:2.0
PRODID:-//hacksw/handcal//NONSGML v1.0//EN
CALSCALE:GREGORIAN
BEGIN:VEVENT
LOCATION:Barcelona
DESCRIPTION:
DTSTART:20220513T140000Z
DTEND:20220513T140000Z
SUMMARY:Festes d’Arquitectura 2022: Sarrià-Sant Gervasi. Obrim les portes del CAS Sarrià
URL;VALUE=URI:https://arquitectes.cat/ca/content/festes-d%E2%80%99arquitectura-2022-sarri%C3%A0-sant-gervasi-obrim-les-portes-del-cas-sarri%C3%A0
DTSTAMP:20260419T182946Z
UID:69e502fac673f
END:VEVENT
END:VCALENDAR