BEGIN:VCALENDAR
VERSION:2.0
PRODID:-//hacksw/handcal//NONSGML v1.0//EN
CALSCALE:GREGORIAN
BEGIN:VEVENT
LOCATION:Barcelona
DESCRIPTION:
DTSTART:20220503T074500Z
DTEND:20220703T074500Z
SUMMARY:Exposició “La Seu de Manresa\, 700 anys / De Berenguer de Montagut a Gaudí”\, a Santa Maria del Mar
URL;VALUE=URI:https://arquitectes.cat/ca/content/exposici%C3%B3-%E2%80%9Cla-seu-de-manresa-700-anys-de-berenguer-de-montagut-gaud%C3%AD%E2%80%9D-santa-maria-del-mar
DTSTAMP:20260420T034049Z
UID:69e58421bd32a
END:VEVENT
END:VCALENDAR