BEGIN:VCALENDAR
VERSION:2.0
PRODID:-//hacksw/handcal//NONSGML v1.0//EN
CALSCALE:GREGORIAN
BEGIN:VEVENT
LOCATION:Girona
DESCRIPTION:
DTSTART:20220421T170000Z
DTEND:20220421T170000Z
SUMMARY:Cicle 'Escenaris Arquitectònics: la Casa Masó en 4 actes. De què parlem quan parlem de la casa'\, a càrrec de Xavier Monteys
URL;VALUE=URI:https://arquitectes.cat/ca/content/cicle-escenaris-arquitect%C3%B2nics-la-casa-mas%C3%B3-en-4-actes-de-qu%C3%A8-parlem-quan-parlem-de-la-casa
DTSTAMP:20260426T033434Z
UID:69ed6baa6e9b1
END:VEVENT
END:VCALENDAR