BEGIN:VCALENDAR
VERSION:2.0
PRODID:-//hacksw/handcal//NONSGML v1.0//EN
CALSCALE:GREGORIAN
BEGIN:VEVENT
LOCATION:Girona
DESCRIPTION:
DTSTART:20220526T150000Z
DTEND:20220526T150000Z
SUMMARY:Visita comentada a l'exposició 'Una llum noucentista: els vitralls de Masó'
URL;VALUE=URI:https://arquitectes.cat/ca/content/visita-comentada-lexposici%C3%B3-una-llum-noucentista-els-vitralls-de-mas%C3%B3
DTSTAMP:20260425T235914Z
UID:69ed393245e96
END:VEVENT
END:VCALENDAR