BEGIN:VCALENDAR
VERSION:2.0
PRODID:-//hacksw/handcal//NONSGML v1.0//EN
CALSCALE:GREGORIAN
BEGIN:VEVENT
LOCATION:Girona
DESCRIPTION:
DTSTART:20220324T140000Z
DTEND:20220324T140000Z
SUMMARY:El Barri Vell de Girona\, respostes arquitectòniques des del procés participatiu “Per un Nou Vell”
URL;VALUE=URI:https://arquitectes.cat/ca/content/el-barri-vell-de-girona-respostes-arquitect%C3%B2niques-des-del-proc%C3%A9s-participatiu-%E2%80%9C-un-nou-vell
DTSTAMP:20260426T052339Z
UID:69ed853bbcdfd
END:VEVENT
END:VCALENDAR