BEGIN:VCALENDAR
VERSION:2.0
PRODID:-//hacksw/handcal//NONSGML v1.0//EN
CALSCALE:GREGORIAN
BEGIN:VEVENT
LOCATION:Figueres
DESCRIPTION:
DTSTART:20220318T170000Z
DTEND:20220318T170000Z
SUMMARY:Taller de bones pràctiques d'arquitectura sobre la ciutat de Figueres. Reutilització d'edificis col·lectius residencials
URL;VALUE=URI:https://arquitectes.cat/ca/content/taller-de-bones-pr%C3%A0ctiques-darquitectura-sobre-la-ciutat-de-figueres-reutilitzaci%C3%B3-dedificis
DTSTAMP:20260424T225025Z
UID:69ebd791ddde0
END:VEVENT
END:VCALENDAR