BEGIN:VCALENDAR
VERSION:2.0
PRODID:-//hacksw/handcal//NONSGML v1.0//EN
CALSCALE:GREGORIAN
BEGIN:VEVENT
LOCATION:En línia
DESCRIPTION:
DTSTART:20220421T170000Z
DTEND:20220421T170000Z
SUMMARY:Més enllà d’una llista: El concepte de patrimoni entre excepció i norma
URL;VALUE=URI:https://arquitectes.cat/ca/content/m%C3%A9s-enll%C3%A0-d%E2%80%99una-llista-el-concepte-de-patrimoni-entre-excepci%C3%B3-i-norma
DTSTAMP:20260425T195051Z
UID:69ecfefb07c36
END:VEVENT
END:VCALENDAR