BEGIN:VCALENDAR
VERSION:2.0
PRODID:-//hacksw/handcal//NONSGML v1.0//EN
CALSCALE:GREGORIAN
BEGIN:VEVENT
LOCATION:Barcelona
DESCRIPTION:
DTSTART:20220324T160000Z
DTEND:20220324T160000Z
SUMMARY:Trends and Innovations: El interior del hogar
URL;VALUE=URI:https://arquitectes.cat/ca/node/37022
DTSTAMP:20260421T203815Z
UID:69e7c417be767
END:VEVENT
END:VCALENDAR