BEGIN:VCALENDAR
VERSION:2.0
PRODID:-//hacksw/handcal//NONSGML v1.0//EN
CALSCALE:GREGORIAN
BEGIN:VEVENT
LOCATION:Barcelona
DESCRIPTION:
DTSTART:20220420T100000Z
DTEND:20220420T100000Z
SUMMARY:CulturTalks amb Joan Pascual Ubalde
URL;VALUE=URI:https://arquitectes.cat/ca/content/culturtalks-amb-joan-pascual-ubalde
DTSTAMP:20260425T161650Z
UID:69ecccd2798d0
END:VEVENT
END:VCALENDAR