BEGIN:VCALENDAR
VERSION:2.0
PRODID:-//hacksw/handcal//NONSGML v1.0//EN
CALSCALE:GREGORIAN
BEGIN:VEVENT
LOCATION:
DESCRIPTION:
DTSTART:20220321T070000Z
DTEND:20220321T220000Z
SUMMARY:Girona-Tarragona-València: un itinerari d’arquitectura
URL;VALUE=URI:https://arquitectes.cat/ca/content/girona-tarragona-val%C3%A8ncia-un-itinerari-d%E2%80%99arquitectura
DTSTAMP:20260425T190836Z
UID:69ecf5140c58d
END:VEVENT
END:VCALENDAR