BEGIN:VCALENDAR
VERSION:2.0
PRODID:-//hacksw/handcal//NONSGML v1.0//EN
CALSCALE:GREGORIAN
BEGIN:VEVENT
LOCATION:Girona
DESCRIPTION:
DTSTART:20220226T114500Z
DTEND:20220508T114500Z
SUMMARY:Exposició: Localismes Universals\, Artistes de l'Empordà (1)
URL;VALUE=URI:https://arquitectes.cat/ca/content/exposici%C3%B3-localismes-universals-artistes-de-lempord%C3%A0-1
DTSTAMP:20260419T192207Z
UID:69e50f3fd6f9f
END:VEVENT
END:VCALENDAR