BEGIN:VCALENDAR
VERSION:2.0
PRODID:-//hacksw/handcal//NONSGML v1.0//EN
CALSCALE:GREGORIAN
BEGIN:VEVENT
LOCATION:Figueres
DESCRIPTION:
DTSTART:20220311T170000Z
DTEND:20220311T170000Z
SUMMARY:Día Internacional de la Mujer. Conferencia "Prácticas feministas en la arquitectura española reciente. Igualitarismos y diferencia sexual" a cargo de Lucia C. Pérez-Moreno
URL;VALUE=URI:https://arquitectes.cat/ca/node/36977
DTSTAMP:20260425T041706Z
UID:69ec2422134f3
END:VEVENT
END:VCALENDAR