BEGIN:VCALENDAR
VERSION:2.0
PRODID:-//hacksw/handcal//NONSGML v1.0//EN
CALSCALE:GREGORIAN
BEGIN:VEVENT
LOCATION:Vic
DESCRIPTION:
DTSTART:20220303T170000Z
DTEND:20220303T170000Z
SUMMARY:Debat arquitectes obra seleccionada a la 8a MACC
URL;VALUE=URI:https://arquitectes.cat/ca/content/debat-arquitectes-obra-seleccionada-la-8a-macc
DTSTAMP:20260424T195616Z
UID:69ebaec04e438
END:VEVENT
END:VCALENDAR