BEGIN:VCALENDAR
VERSION:2.0
PRODID:-//hacksw/handcal//NONSGML v1.0//EN
CALSCALE:GREGORIAN
BEGIN:VEVENT
LOCATION:Barcelona
DESCRIPTION:
DTSTART:20220212T100000Z
DTEND:20220212T100000Z
SUMMARY:Visita lliure Casa Vicens + visita comentada a l'exposició 'Guerra'
URL;VALUE=URI:https://arquitectes.cat/ca/content/visita-lliure-casa-vicens-visita-comentada-lexposici%C3%B3-guerra
DTSTAMP:20260420T054550Z
UID:69e5a16e9b7e6
END:VEVENT
END:VCALENDAR