BEGIN:VCALENDAR
VERSION:2.0
PRODID:-//hacksw/handcal//NONSGML v1.0//EN
CALSCALE:GREGORIAN
BEGIN:VEVENT
LOCATION:Barcelona
DESCRIPTION:
DTSTART:20220302T163000Z
DTEND:20220302T163000Z
SUMMARY:LA MÀSCARA: SER UN ALTRE.  Beatriz Jaguaribe. Màscares: èxtasis\, anonimat i contagi
URL;VALUE=URI:https://arquitectes.cat/ca/node/36881
DTSTAMP:20260424T163542Z
UID:69eb7fbece2d6
END:VEVENT
END:VCALENDAR