BEGIN:VCALENDAR
VERSION:2.0
PRODID:-//hacksw/handcal//NONSGML v1.0//EN
CALSCALE:GREGORIAN
BEGIN:VEVENT
LOCATION:Barcelona
DESCRIPTION:
DTSTART:20220224T163000Z
DTEND:20220224T163000Z
SUMMARY:Presentació del documental Lina Bo Bardi\, del vidrio al barro
URL;VALUE=URI:https://arquitectes.cat/ca/content/presentaci%C3%B3-del-documental-lina-bo-bardi-del-vidrio-al-barro
DTSTAMP:20260419T145510Z
UID:69e4d0aecd9c6
END:VEVENT
END:VCALENDAR