BEGIN:VCALENDAR
VERSION:2.0
PRODID:-//hacksw/handcal//NONSGML v1.0//EN
CALSCALE:GREGORIAN
BEGIN:VEVENT
LOCATION:Barcelona
DESCRIPTION:
DTSTART:20220213T093000Z
DTEND:20220213T093000Z
SUMMARY:Mans a l'obra. Visita-taller familiar
URL;VALUE=URI:https://arquitectes.cat/ca/content/mans-lobra-visita-taller-familiar-0
DTSTAMP:20260425T200333Z
UID:69ed01f5d143c
END:VEVENT
END:VCALENDAR