BEGIN:VCALENDAR
VERSION:2.0
PRODID:-//hacksw/handcal//NONSGML v1.0//EN
CALSCALE:GREGORIAN
BEGIN:VEVENT
LOCATION:Manresa
DESCRIPTION:
DTSTART:20220205T080000Z
DTEND:20220205T080000Z
SUMMARY:Visita d'obres: Museu del Barroc de Catalunya i Edifici FUB 4. Manresa
URL;VALUE=URI:https://arquitectes.cat/ca/content/visita-dobres-museu-del-barroc-de-catalunya-i-edifici-fub-4-manresa
DTSTAMP:20260419T235530Z
UID:69e54f52456f8
END:VEVENT
END:VCALENDAR