BEGIN:VCALENDAR
VERSION:2.0
PRODID:-//hacksw/handcal//NONSGML v1.0//EN
CALSCALE:GREGORIAN
BEGIN:VEVENT
LOCATION:Girona
DESCRIPTION:
DTSTART:20220203T170000Z
DTEND:20220203T170000Z
SUMMARY:The Universe of Keith Haring
URL;VALUE=URI:https://arquitectes.cat/ca/content/universe-keith-haring
DTSTAMP:20260419T233829Z
UID:69e54b551d7fb
END:VEVENT
END:VCALENDAR