BEGIN:VCALENDAR
VERSION:2.0
PRODID:-//hacksw/handcal//NONSGML v1.0//EN
CALSCALE:GREGORIAN
BEGIN:VEVENT
LOCATION:Girona
DESCRIPTION:
DTSTART:20220203T170000Z
DTEND:20220529T143000Z
SUMMARY:Fons d’Arxiu: Projectes Dibuixats: Ignasi Bosch - Joan Maria de Ribot - Jeroni Moner - Ferran Galí - Manuel Martín Madrid
URL;VALUE=URI:https://arquitectes.cat/ca/content/fons-d%E2%80%99arxiu-projectes-dibuixats-ignasi-bosch-joan-maria-de-ribot-jeroni-moner-ferran-gal%C3%AD
DTSTAMP:20260423T041522Z
UID:69e980bab0757
END:VEVENT
END:VCALENDAR