BEGIN:VCALENDAR
VERSION:2.0
PRODID:-//hacksw/handcal//NONSGML v1.0//EN
CALSCALE:GREGORIAN
BEGIN:VEVENT
LOCATION:Barcelona
DESCRIPTION:
DTSTART:20220210T163000Z
DTEND:20220210T163000Z
SUMMARY:Presentació del llibre "Crossings/Traversées"
URL;VALUE=URI:https://arquitectes.cat/ca/content/presentaci%C3%B3-del-llibre-crossingstravers%C3%A9es
DTSTAMP:20260425T162453Z
UID:69ecceb5cde8f
END:VEVENT
END:VCALENDAR