BEGIN:VCALENDAR
VERSION:2.0
PRODID:-//hacksw/handcal//NONSGML v1.0//EN
CALSCALE:GREGORIAN
BEGIN:VEVENT
LOCATION:Tarragona
DESCRIPTION:
DTSTART:20220421T173000Z
DTEND:20220421T173000Z
SUMMARY:Conferència de Barozzi Veiga
URL;VALUE=URI:https://arquitectes.cat/ca/content/confer%C3%A8ncia-de-barozzi-veiga
DTSTAMP:20260424T225132Z
UID:69ebd7d4c21e6
END:VEVENT
END:VCALENDAR