BEGIN:VCALENDAR
VERSION:2.0
PRODID:-//hacksw/handcal//NONSGML v1.0//EN
CALSCALE:GREGORIAN
BEGIN:VEVENT
LOCATION:Barcelona
DESCRIPTION:
DTSTART:20220120T080000Z
DTEND:20220626T151500Z
SUMMARY:Exposició 'Guerra' Nikki Luna
URL;VALUE=URI:https://arquitectes.cat/ca/content/exposici%C3%B3-guerra-nikki-luna
DTSTAMP:20260419T231544Z
UID:69e54600b80c5
END:VEVENT
END:VCALENDAR