BEGIN:VCALENDAR
VERSION:2.0
PRODID:-//hacksw/handcal//NONSGML v1.0//EN
CALSCALE:GREGORIAN
BEGIN:VEVENT
LOCATION:Barcelona
DESCRIPTION:
DTSTART:20220126T083000Z
DTEND:20220127T100000Z
SUMMARY:Visita a la Casa Vicens 
URL;VALUE=URI:https://arquitectes.cat/ca/content/visita-la-casa-vicens-1
DTSTAMP:20260421T064222Z
UID:69e7002ebbf70
END:VEVENT
END:VCALENDAR