BEGIN:VCALENDAR
VERSION:2.0
PRODID:-//hacksw/handcal//NONSGML v1.0//EN
CALSCALE:GREGORIAN
BEGIN:VEVENT
LOCATION:Barcelona
DESCRIPTION:
DTSTART:20220125T160000Z
DTEND:20220125T160000Z
SUMMARY:Presentació del llibre "Barcelona 1969-1979. Els anys decisius del planejament de la metròpoli"\, de Joan Antoni Solans i Huguet
URL;VALUE=URI:https://arquitectes.cat/ca/content/presentaci%C3%B3-del-llibre-barcelona-1969-1979-els-anys-decisius-del-planejament-de-la-metr%C3%B2poli
DTSTAMP:20260419T163918Z
UID:69e4e9169ceb7
END:VEVENT
END:VCALENDAR