BEGIN:VCALENDAR
VERSION:2.0
PRODID:-//hacksw/handcal//NONSGML v1.0//EN
CALSCALE:GREGORIAN
BEGIN:VEVENT
LOCATION:En línia
DESCRIPTION:
DTSTART:20220120T170000Z
DTEND:20220120T170000Z
SUMMARY:Els Junyent. Artistes\, decoradors i col·leccionistes
URL;VALUE=URI:https://arquitectes.cat/ca/content/els-junyent-artistes-decoradors-i-col%C2%B7leccionistes
DTSTAMP:20260419T200253Z
UID:69e518cdc6d36
END:VEVENT
END:VCALENDAR