BEGIN:VCALENDAR
VERSION:2.0
PRODID:-//hacksw/handcal//NONSGML v1.0//EN
CALSCALE:GREGORIAN
BEGIN:VEVENT
LOCATION:Barcelona
DESCRIPTION:
DTSTART:20220305T090000Z
DTEND:20220305T090000Z
SUMMARY:Nad Spiro. Itinerario sonoro por las canteras de Montjuïc
URL;VALUE=URI:https://arquitectes.cat/ca/node/36743
DTSTAMP:20260419T223313Z
UID:69e53c093b1b9
END:VEVENT
END:VCALENDAR