BEGIN:VCALENDAR
VERSION:2.0
PRODID:-//hacksw/handcal//NONSGML v1.0//EN
CALSCALE:GREGORIAN
BEGIN:VEVENT
LOCATION:En línia
DESCRIPTION:
DTSTART:20220117T150000Z
DTEND:20220117T150000Z
SUMMARY:Sessió Sert: Principis bàsics de disseny resilient
URL;VALUE=URI:https://arquitectes.cat/ca/content/sessi%C3%B3-sert-principis-b%C3%A0sics-de-disseny-resilient-0
DTSTAMP:20260419T173030Z
UID:69e4f5160abb8
END:VEVENT
END:VCALENDAR