BEGIN:VCALENDAR
VERSION:2.0
PRODID:-//hacksw/handcal//NONSGML v1.0//EN
CALSCALE:GREGORIAN
BEGIN:VEVENT
LOCATION:En línia
DESCRIPTION:
DTSTART:20211214T150000Z
DTEND:20211214T150000Z
SUMMARY:Presentació de la Guia per a l'elaboració del Llibre de l'Edifici Existent 
URL;VALUE=URI:https://arquitectes.cat/ca/content/presentaci%C3%B3-de-la-guia-lelaboraci%C3%B3-del-llibre-de-ledifici-existent
DTSTAMP:20260420T013306Z
UID:69e56632f206d
END:VEVENT
END:VCALENDAR