BEGIN:VCALENDAR
VERSION:2.0
PRODID:-//hacksw/handcal//NONSGML v1.0//EN
CALSCALE:GREGORIAN
BEGIN:VEVENT
LOCATION:L’Hospitalet
DESCRIPTION:
DTSTART:20211201T173000Z
DTEND:20220201T190000Z
SUMMARY:Exposició: 5 anys del festival d’arquitectura a L’H
URL;VALUE=URI:https://arquitectes.cat/ca/content/exposici%C3%B3-5-anys-del-festival-d%E2%80%99arquitectura-l%E2%80%99h
DTSTAMP:20260419T151013Z
UID:69e4d43595feb
END:VEVENT
END:VCALENDAR