BEGIN:VCALENDAR
VERSION:2.0
PRODID:-//hacksw/handcal//NONSGML v1.0//EN
CALSCALE:GREGORIAN
BEGIN:VEVENT
LOCATION:Barcelona
DESCRIPTION:
DTSTART:20211209T163000Z
DTEND:20211209T163000Z
SUMMARY:Presentació de The Urban Times #1 -Mobility
URL;VALUE=URI:https://arquitectes.cat/ca/content/presentaci%C3%B3-de-urban-times-1-mobility
DTSTAMP:20260426T044608Z
UID:69ed7c7008022
END:VEVENT
END:VCALENDAR