BEGIN:VCALENDAR
VERSION:2.0
PRODID:-//hacksw/handcal//NONSGML v1.0//EN
CALSCALE:GREGORIAN
BEGIN:VEVENT
LOCATION:Olot
DESCRIPTION:
DTSTART:20211209T173000Z
DTEND:20211209T173000Z
SUMMARY:Trobada de Nadal 2021. L'arquitectura com a eina de salut
URL;VALUE=URI:https://arquitectes.cat/ca/content/trobada-de-nadal-2021-larquitectura-com-eina-de-salut
DTSTAMP:20260420T033530Z
UID:69e582e22b473
END:VEVENT
END:VCALENDAR