BEGIN:VCALENDAR
VERSION:2.0
PRODID:-//hacksw/handcal//NONSGML v1.0//EN
CALSCALE:GREGORIAN
BEGIN:VEVENT
LOCATION:En línia
DESCRIPTION:
DTSTART:20211130T121500Z
DTEND:20211130T121500Z
SUMMARY:Jornada de Soporte Profesional: Next Generation. Nuevos programas de ayuda a la rehabilitación
URL;VALUE=URI:https://arquitectes.cat/ca/node/36648
DTSTAMP:20260419T200350Z
UID:69e51906b9cb8
END:VEVENT
END:VCALENDAR