BEGIN:VCALENDAR
VERSION:2.0
PRODID:-//hacksw/handcal//NONSGML v1.0//EN
CALSCALE:GREGORIAN
BEGIN:VEVENT
LOCATION:Barcelona
DESCRIPTION:
DTSTART:20211201T071500Z
DTEND:20211204T171500Z
SUMMARY:CAMOC Barcelona 2021. Connectar ciutats\, connectar ciutadans. Cap a una sostenibilitat compartida
URL;VALUE=URI:https://arquitectes.cat/ca/content/camoc-barcelona-2021-connectar-ciutats-connectar-ciutadans-cap-una-sostenibilitat-compartida
DTSTAMP:20260420T005302Z
UID:69e55ccec6909
END:VEVENT
END:VCALENDAR