BEGIN:VCALENDAR
VERSION:2.0
PRODID:-//hacksw/handcal//NONSGML v1.0//EN
CALSCALE:GREGORIAN
BEGIN:VEVENT
LOCATION:Barcelona
DESCRIPTION:
DTSTART:20211105T171500Z
DTEND:20220111T171500Z
SUMMARY:Exposició: "Sarrià i Barcelona 1921. Vers la ciutat metropolitana" a MUHBA Vil·la Joana
URL;VALUE=URI:https://arquitectes.cat/ca/content/exposici%C3%B3-sarri%C3%A0-i-barcelona-1921-vers-la-ciutat-metropolitana-muhba-vil%C2%B7la-joana
DTSTAMP:20260419T204532Z
UID:69e522ccb3b38
END:VEVENT
END:VCALENDAR