BEGIN:VCALENDAR
VERSION:2.0
PRODID:-//hacksw/handcal//NONSGML v1.0//EN
CALSCALE:GREGORIAN
BEGIN:VEVENT
LOCATION:Barcelona
DESCRIPTION:
DTSTART:20211015T160000Z
DTEND:20221015T160000Z
SUMMARY:Exposició: "Alimentar Barcelona. Ciutat\, proveïment i salut"
URL;VALUE=URI:https://arquitectes.cat/ca/content/exposici%C3%B3-alimentar-barcelona-ciutat-prove%C3%AFment-i-salut
DTSTAMP:20260422T120917Z
UID:69e89e4d654d2
END:VEVENT
END:VCALENDAR